BEGIN:VCALENDAR
VERSION:2.0
PRODID:-//parallaxexperience.com - ECPv6.15.20//NONSGML v1.0//EN
CALSCALE:GREGORIAN
METHOD:PUBLISH
X-WR-CALNAME:parallaxexperience.com
X-ORIGINAL-URL:https://parallaxexperience.com
X-WR-CALDESC:Events for parallaxexperience.com
REFRESH-INTERVAL;VALUE=DURATION:PT1H
X-Robots-Tag:noindex
X-PUBLISHED-TTL:PT1H
BEGIN:VTIMEZONE
TZID:Europe/Athens
BEGIN:DAYLIGHT
TZOFFSETFROM:+0200
TZOFFSETTO:+0300
TZNAME:EEST
DTSTART:20250330T010000
END:DAYLIGHT
BEGIN:STANDARD
TZOFFSETFROM:+0300
TZOFFSETTO:+0200
TZNAME:EET
DTSTART:20251026T010000
END:STANDARD
BEGIN:DAYLIGHT
TZOFFSETFROM:+0200
TZOFFSETTO:+0300
TZNAME:EEST
DTSTART:20260329T010000
END:DAYLIGHT
BEGIN:STANDARD
TZOFFSETFROM:+0300
TZOFFSETTO:+0200
TZNAME:EET
DTSTART:20261025T010000
END:STANDARD
BEGIN:DAYLIGHT
TZOFFSETFROM:+0200
TZOFFSETTO:+0300
TZNAME:EEST
DTSTART:20270328T010000
END:DAYLIGHT
BEGIN:STANDARD
TZOFFSETFROM:+0300
TZOFFSETTO:+0200
TZNAME:EET
DTSTART:20271031T010000
END:STANDARD
END:VTIMEZONE
BEGIN:VEVENT
DTSTART;VALUE=DATE:20261003
DTEND;VALUE=DATE:20261004
DTSTAMP:20260422T025829
CREATED:20260211T055435Z
LAST-MODIFIED:20260211T062358Z
UID:15900-1790985600-1791071999@parallaxexperience.com
SUMMARY:Fameline Offshore Sailing Regatta
DESCRIPTION:
URL:https://parallaxexperience.com/event/fameline-offshore-sailing-regatta/
LOCATION:Limassol Marina\, Limassol\, Cyprus
CATEGORIES:Corporate events
ATTACH;FMTTYPE=image/jpeg:https://parallaxexperience.com/wp-content/uploads/2024/12/ship1.jpg
END:VEVENT
END:VCALENDAR